BEGIN:VCALENDAR
VERSION:2.0
PRODID:Events Booking
BEGIN:VEVENT
UID:69e9d8b0b7be3
SUMMARY:PERCORSO 04 GAOP Castana PV
DESCRIPTION:
DTSTART:20250504T000000Z
DTSTAMP:20241223T181536Z
ORGANIZER;CN=Arcieri della Selva:MAILTO:admin@arcieridellaselva.it
END:VEVENT
END:VCALENDAR