BEGIN:VCALENDAR
VERSION:2.0
PRODID:Events Booking
BEGIN:VEVENT
UID:69ecc58123f78
SUMMARY:3D Meda(MB) memoriale Franca Barzaghi asd compagnia d'archi 
DESCRIPTION:
DTSTART:20260426T000000Z
DTEND:20260426T000000Z
DTSTAMP:20251215T145732Z
ORGANIZER;CN=Arcieri della Selva:MAILTO:admin@arcieridellaselva.it
END:VEVENT
END:VCALENDAR