BEGIN:VCALENDAR
VERSION:2.0
PRODID:Events Booking
BEGIN:VEVENT
UID:69e9d44b26cd1
SUMMARY:IFAA HUNTING 04HOOD Ozzero MI Cascina Selva
DESCRIPTION:
DTSTART:20250511T000000Z
DTSTAMP:20241225T220301Z
ORGANIZER;CN=Arcieri della Selva:MAILTO:admin@arcieridellaselva.it
END:VEVENT
END:VCALENDAR