BEGIN:VCALENDAR
VERSION:2.0
PRODID:Events Booking
BEGIN:VEVENT
UID:69e9e36c0385b
SUMMARY:PERCORSO 04ASAI Valmorea CO
DESCRIPTION:
DTSTART:20250914T000000Z
DTSTAMP:20241225T221631Z
ORGANIZER;CN=Arcieri della Selva:MAILTO:admin@arcieridellaselva.it
END:VEVENT
END:VCALENDAR