BEGIN:VCALENDAR
VERSION:2.0
PRODID:Events Booking
BEGIN:VEVENT
UID:69e9d77f36d8b
SUMMARY:PERCORSO 04POTA Trescore Balneario BG
DESCRIPTION:
DTSTART:20250622T000000Z
DTSTAMP:20241225T220949Z
ORGANIZER;CN=Arcieri della Selva:MAILTO:admin@arcieridellaselva.it
END:VEVENT
END:VCALENDAR